BEGIN:VCALENDAR
VERSION:2.0
CALSCALE:GREGORIAN
PRODID:adamgibbons/ics
METHOD:PUBLISH
X-PUBLISHED-TTL:PT1H
BEGIN:VEVENT
UID:415@agenda.arree.bzh
SUMMARY:Marche des fiertés
DTSTAMP:20260420T115834Z
DTSTART:20260425T123000Z
URL:https://agenda.arree.bzh/event/marche-des-fiertes
LOCATION:Rostrenen - place de la fontaine Rostrenen
STATUS:CONFIRMED
CATEGORIES:
END:VEVENT
END:VCALENDAR
