BEGIN:VCALENDAR
VERSION:2.0
CALSCALE:GREGORIAN
PRODID:adamgibbons/ics
METHOD:PUBLISH
X-PUBLISHED-TTL:PT1H
BEGIN:VEVENT
UID:417@agenda.arree.bzh
SUMMARY:Atelier en forêt
DTSTAMP:20260422T155315Z
DTSTART:20260425T073000Z
DTEND:20260425T100000Z
DESCRIPTION:👩‍👧‍👦Les Rendez vous des Familles 👩‍👩‍👦\nProchain atelier\, samedi 25 a
	vril. Nous vous proposons de prendre un peu de\ntemps en famille\, venez d
	écouvrir nos 🌿Ateliers en Forêt 🌿\nLaissez vous guider par Cécile Rochery\
	, art thérapeute pour découvrir ou\nredécouvrir la forêt et passer un bon 
	moment ensemble.\nCes matinées sont à destination des enfants de tous âges
	\, accompagnés de leurs\nparents\, grands parents...\nRenseignements et in
	scriptions au 06.79.78.57.54 ou à evs@epal.asso.fr.
URL:https://agenda.arree.bzh/event/atelier-en-foret
LOCATION:Route D14 Berrien - D14
STATUS:CONFIRMED
CATEGORIES:
X-ALT-DESC;FMTTYPE=text/html:<p>👩‍👧‍👦Les Rendez vous des Familles 👩‍👩‍👦<br>Prochain
	 atelier, samedi 25 avril. Nous vous proposons de prendre un peu de temps 
	en famille, venez découvrir nos 🌿Ateliers en Forêt 🌿<br>Laissez vous guide
	r par Cécile Rochery, art thérapeute pour découvrir ou redécouvrir la forê
	t et passer un bon moment ensemble.<br>Ces matinées sont à destination des
	 enfants de tous âges, accompagnés de leurs parents, grands parents...<br>
	Renseignements et inscriptions au 06.79.78.57.54 ou à evs@epal.asso.fr.</p
	>
BEGIN:VALARM
ACTION:DISPLAY
DESCRIPTION:Atelier en forêt
TRIGGER:-PT1H
END:VALARM
END:VEVENT
END:VCALENDAR
