BEGIN:VCALENDAR
VERSION:2.0
CALSCALE:GREGORIAN
PRODID:adamgibbons/ics
METHOD:PUBLISH
X-PUBLISHED-TTL:PT1H
BEGIN:VEVENT
UID:420@agenda.arree.bzh
SUMMARY:1er mai libertaire
DTSTAMP:20260423T115531Z
DTSTART:20260501T143000Z
DESCRIPTION:Reprenons la parole et retrouvons-nous pour discuter ensemble\,
	 pour manger\,\ndécouvrir des livres\, des tracts\, brochures\, des images
	\, des concerts ....\n\nÀ la "fête du travail" pétainiste comme macroniste
	\, nous préférerons toujours un\n1er mai de lutte ! À la récupération nati
	onaliste par l'extrême droite et\nl'ambiance militariste qui oppose les pe
	uples\, nous préférerons toujours un 1er\nmai internationaliste ! À l'auto
	ritarisme\, d'où qu'il vienne\, nous préférerons\ndonc un 1er mai libertai
	re !
URL:https://agenda.arree.bzh/event/1er-mai-libertaire
LOCATION:Rostrenen - place de la fontaine Rostrenen
STATUS:CONFIRMED
CATEGORIES:
X-ALT-DESC;FMTTYPE=text/html:<p>Reprenons la parole et retrouvons-nous pour
	 discuter ensemble, pour manger, découvrir des livres, des tracts, brochur
	es, des images, des concerts ....</p><p>À la "fête du travail" pétainiste 
	comme macroniste, nous préférerons toujours un 1er mai de lutte ! À la réc
	upération nationaliste par l'extrême droite et l'ambiance militariste qui 
	oppose les peuples, nous préférerons toujours un 1er mai internationaliste
	 ! À l'autoritarisme, d'où qu'il vienne, nous préférerons donc un 1er mai 
	libertaire !</p>
BEGIN:VALARM
ACTION:DISPLAY
DESCRIPTION:1er mai libertaire
TRIGGER:-PT1H
END:VALARM
END:VEVENT
END:VCALENDAR
